BEGIN:VCALENDAR
VERSION:2.0
PRODID:-//ddaysoftware.com//NONSGML DDay.iCal 1.0//EN
BEGIN:VTIMEZONE
TZID:W. Europe Standard Time
BEGIN:STANDARD
DTSTART:20251002T030000
RRULE:FREQ=YEARLY;BYDAY=-1SU;BYHOUR=3;BYMINUTE=0;BYMONTH=10
TZNAME:Mitteleuropäische Zeit
TZOFFSETFROM:+0200
TZOFFSETTO:+0100
END:STANDARD
BEGIN:DAYLIGHT
DTSTART:20250301T020000
RRULE:FREQ=YEARLY;BYDAY=-1SU;BYHOUR=2;BYMINUTE=0;BYMONTH=3
TZNAME:Mitteleuropäische Sommerzeit
TZOFFSETFROM:+0100
TZOFFSETTO:+0200
END:DAYLIGHT
END:VTIMEZONE
BEGIN:VEVENT
CATEGORIES:Termin für Arbeitsgruppe
DESCRIPTION:Die Präventionsstelle Niederbayern wird sich beim Treffen vorst
 ellen.\n\nVeranstalter: PSAG Deggendorf\n\nhttps://psag.landkreis-deggendo
 rf.de/termine/psag-gremium-5/
DTEND:20260715T150000
DTSTAMP:20260425T153215Z
DTSTART:20260715T140000
LOCATION:Landratsamt Deggendorf (Außenstelle): Pater-Fink-Straße 8\, 94469 
 Deggendorf
SEQUENCE:0
SUMMARY:PSAG Gremium Nummer 3
UID:126380
URL:https://psag.landkreis-deggendorf.de/termine/psag-gremium-5/
END:VEVENT
END:VCALENDAR
