BEGIN:VCALENDAR
VERSION:2.0
PRODID:-//ddaysoftware.com//NONSGML DDay.iCal 1.0//EN
BEGIN:VTIMEZONE
TZID:W. Europe Standard Time
BEGIN:STANDARD
DTSTART:20251002T030000
RRULE:FREQ=YEARLY;BYDAY=-1SU;BYHOUR=3;BYMINUTE=0;BYMONTH=10
TZNAME:Mitteleuropäische Zeit
TZOFFSETFROM:+0200
TZOFFSETTO:+0100
END:STANDARD
BEGIN:DAYLIGHT
DTSTART:20250301T020000
RRULE:FREQ=YEARLY;BYDAY=-1SU;BYHOUR=2;BYMINUTE=0;BYMONTH=3
TZNAME:Mitteleuropäische Sommerzeit
TZOFFSETFROM:+0100
TZOFFSETTO:+0200
END:DAYLIGHT
END:VTIMEZONE
BEGIN:VEVENT
CATEGORIES:Termin für Arbeitsgruppe
DESCRIPTION:Vorstellung Frauennotruf\n\nVeranstalter: Suchtarbeitskreis DEG
 /REG\n\nhttps://psag.landkreis-deggendorf.de/termine/sak-praevention-am-17
 112026/
DTEND:20261117T150000
DTSTAMP:20260421T074414Z
DTSTART:20261117T140000
SEQUENCE:0
SUMMARY:SAK Prävention am 17.11.2026
UID:125345
URL:https://psag.landkreis-deggendorf.de/termine/sak-praevention-am-1711202
 6/
END:VEVENT
END:VCALENDAR
